Workbook

Sheet 使い方
A1: 資格・免許管理簿（Excel版）
A2: 社員ごとの免状・技能講習・特別教育の有効期限と再教育の時期を管理し、資格別の保有者を逆引きできる台帳です。
A4: ■ シートの使い分け
A5: 社員名簿 | B5: 社員を1人1行で登録します。保有資格数と期限切れ件数は自動で入ります。A4横。
A6: 資格・免許台帳 | B6: 「誰が・何を・いつ取ったか」を1件1行で登録します。期限の管理はここです。A4横。
A7: 資格別 集計 | B7: 資格ごとの保有者数と、有効／期限切れ／90日以内の件数。誰が持っているかの逆引きに使えます。
A8: 記入例 | B8: 入力のしかたのサンプルです。実データは入れずに、見本として残しておく想定です。
A9: マスタ | B9: ドロップダウンの選択肢と、電気工事でよく使う資格39種の再教育周期の目安一覧。
A11: ■ 入力するセルと自動のセル
A12: 白いセル | B12: 入力欄です。
A13: 薄い灰色のセル | B13: 数式が入っています。書き換えないでください。
A14: 氏名（台帳） | B14: 社員Noを入れると社員名簿から自動で引いてきます。
A15: 次回期限 | B15: 「有効期限」に日付があればそれを使います。空欄なら 交付日＋再教育周期（年）で計算します。
A16: 残日数・状態 | B16: 次回期限までの日数から自動判定します。マイナスは超過日数です。
A17: 保有資格・期限切れ・90日以内 | B17: 資格・免許台帳から、その社員の件数を数えます。
A19: ■ 有効期限と再教育周期の違い
A20: 有効期限 | B20: 免状に有効期限が印字されているもの（消防設備士の免状など）は、この欄に日付を入れます。
A21: 再教育周期 | B21: 期限は印字されていないが定期的な講習が要るもの（第一種電気工事士の定期講習、職長の能力向上教育など）は、交付日と周期（年）を入れます。
B22: ※周期の年数は運用上の目安です。所属する登録教習機関・都道府県の案内をご確認ください。
A24: ■ 行の色
A25: 赤 | B25: 次回期限を過ぎている行／期限切れの資格を持つ社員の行。
A26: 黄 | B26: 次回期限まで90日以内の行。
A28: ■ 社員Noの付け方
B29: 資格・免許台帳の「社員No」は、社員名簿の「社員No」と同じ文字で入力してください（ドロップダウンから選べます）。
B30: 一致しないと氏名が引けず、社員名簿の件数にも反映されません。
A32: ■ 印刷
B33: 社員名簿・資格・免許台帳とも A4横・幅に合わせて1ページ・見出し行の繰り返しあり。
B34: 既定の印刷範囲は先頭40行（台帳は50行）です。それより下も印刷するときは［ページレイアウト］→［印刷範囲］で広げてください。
A36: ■ 出典・前提
B37: セコサポのWebツール版と同じ判定ロジックを、Excelの数式で再現したものです。
B38: 期限90日前を警告する基準は、運用上の目安として設定しています。

Sheet 社員名簿
A1: 社 員 名 簿
A3: 自社名 | F3: 部署 | J3: 作成日
A4: 管理責任者 | F4: 備考
A6: No | B6: 社員No | C6: 氏名 | D6: フリガナ | E6: 所属 | F6: 職位 | G6: 入社日 | H6: 在籍 | I6: 保有資格 | J6: 期限切れ | K6: 90日以内 | L6: 状態 | M6: 備考
A7: =IF($B7="","",COUNTA($B$7:$B7)) | I7: =IF($B7="","",COUNTIF(資格・免許台帳!$B$7:$B$206,$B7)) | J7: =IF($B7="","",COUNTIFS(資格・免許台帳!$B$7:$B$206,$B7,資格・免許台帳!$K$7:$K$206,"<0")) | K7: =IF($B7="","",COUNTIFS(資格・免許台帳!$B$7:$B$206,$B7,資格・免許台帳!$K$7:$K$206,">=0",資格・免許台帳!$K$7:$K$206,"<=90")) | L7: =IF($B7="","",IF($I7=0,"資格 未登録",IF($J7>0,"期限切れ "&TEXT($J7,"0")&"件",IF($K7>0,"90日以内 "&TEXT($K7,"0")&"件","期限内"))))
A8: =IF($B8="","",COUNTA($B$7:$B8)) | I8: =IF($B8="","",COUNTIF(資格・免許台帳!$B$7:$B$206,$B8)) | J8: =IF($B8="","",COUNTIFS(資格・免許台帳!$B$7:$B$206,$B8,資格・免許台帳!$K$7:$K$206,"<0")) | K8: =IF($B8="","",COUNTIFS(資格・免許台帳!$B$7:$B$206,$B8,資格・免許台帳!$K$7:$K$206,">=0",資格・免許台帳!$K$7:$K$206,"<=90")) | L8: =IF($B8="","",IF($I8=0,"資格 未登録",IF($J8>0,"期限切れ "&TEXT($J8,"0")&"件",IF($K8>0,"90日以内 "&TEXT($K8,"0")&"件","期限内"))))
A9: =IF($B9="","",COUNTA($B$7:$B9)) | I9: =IF($B9="","",COUNTIF(資格・免許台帳!$B$7:$B$206,$B9)) | J9: =IF($B9="","",COUNTIFS(資格・免許台帳!$B$7:$B$206,$B9,資格・免許台帳!$K$7:$K$206,"<0")) | K9: =IF($B9="","",COUNTIFS(資格・免許台帳!$B$7:$B$206,$B9,資格・免許台帳!$K$7:$K$206,">=0",資格・免許台帳!$K$7:$K$206,"<=90")) | L9: =IF($B9="","",IF($I9=0,"資格 未登録",IF($J9>0,"期限切れ "&TEXT($J9,"0")&"件",IF($K9>0,"90日以内 "&TEXT($K9,"0")&"件","期限内"))))
A10: =IF($B10="","",COUNTA($B$7:$B10)) | I10: =IF($B10="","",COUNTIF(資格・免許台帳!$B$7:$B$206,$B10)) | J10: =IF($B10="","",COUNTIFS(資格・免許台帳!$B$7:$B$206,$B10,資格・免許台帳!$K$7:$K$206,"<0")) | K10: =IF($B10="","",COUNTIFS(資格・免許台帳!$B$7:$B$206,$B10,資格・免許台帳!$K$7:$K$206,">=0",資格・免許台帳!$K$7:$K$206,"<=90")) | L10: =IF($B10="","",IF($I10=0,"資格 未登録",IF($J10>0,"期限切れ "&TEXT($J10,"0")&"件",IF($K10>0,"90日以内 "&TEXT($K10,"0")&"件","期限内"))))
A11: =IF($B11="","",COUNTA($B$7:$B11)) | I11: =IF($B11="","",COUNTIF(資格・免許台帳!$B$7:$B$206,$B11)) | J11: =IF($B11="","",COUNTIFS(資格・免許台帳!$B$7:$B$206,$B11,資格・免許台帳!$K$7:$K$206,"<0")) | K11: =IF($B11="","",COUNTIFS(資格・免許台帳!$B$7:$B$206,$B11,資格・免許台帳!$K$7:$K$206,">=0",資格・免許台帳!$K$7:$K$206,"<=90")) | L11: =IF($B11="","",IF($I11=0,"資格 未登録",IF($J11>0,"期限切れ "&TEXT($J11,"0")&"件",IF($K11>0,"90日以内 "&TEXT($K11,"0")&"件","期限内"))))
A12: =IF($B12="","",COUNTA($B$7:$B12)) | I12: =IF($B12="","",COUNTIF(資格・免許台帳!$B$7:$B$206,$B12)) | J12: =IF($B12="","",COUNTIFS(資格・免許台帳!$B$7:$B$206,$B12,資格・免許台帳!$K$7:$K$206,"<0")) | K12: =IF($B12="","",COUNTIFS(資格・免許台帳!$B$7:$B$206,$B12,資格・免許台帳!$K$7:$K$206,">=0",資格・免許台帳!$K$7:$K$206,"<=90")) | L12: =IF($B12="","",IF($I12=0,"資格 未登録",IF($J12>0,"期限切れ "&TEXT($J12,"0")&"件",IF($K12>0,"90日以内 "&TEXT($K12,"0")&"件","期限内"))))
A13: =IF($B13="","",COUNTA($B$7:$B13)) | I13: =IF($B13="","",COUNTIF(資格・免許台帳!$B$7:$B$206,$B13)) | J13: =IF($B13="","",COUNTIFS(資格・免許台帳!$B$7:$B$206,$B13,資格・免許台帳!$K$7:$K$206,"<0")) | K13: =IF($B13="","",COUNTIFS(資格・免許台帳!$B$7:$B$206,$B13,資格・免許台帳!$K$7:$K$206,">=0",資格・免許台帳!$K$7:$K$206,"<=90")) | L13: =IF($B13="","",IF($I13=0,"資格 未登録",IF($J13>0,"期限切れ "&TEXT($J13,"0")&"件",IF($K13>0,"90日以内 "&TEXT($K13,"0")&"件","期限内"))))
A14: =IF($B14="","",COUNTA($B$7:$B14)) | I14: =IF($B14="","",COUNTIF(資格・免許台帳!$B$7:$B$206,$B14)) | J14: =IF($B14="","",COUNTIFS(資格・免許台帳!$B$7:$B$206,$B14,資格・免許台帳!$K$7:$K$206,"<0")) | K14: =IF($B14="","",COUNTIFS(資格・免許台帳!$B$7:$B$206,$B14,資格・免許台帳!$K$7:$K$206,">=0",資格・免許台帳!$K$7:$K$206,"<=90")) | L14: =IF($B14="","",IF($I14=0,"資格 未登録",IF($J14>0,"期限切れ "&TEXT($J14,"0")&"件",IF($K14>0,"90日以内 "&TEXT($K14,"0")&"件","期限内"))))
A15: =IF($B15="","",COUNTA($B$7:$B15)) | I15: =IF($B15="","",COUNTIF(資格・免許台帳!$B$7:$B$206,$B15)) | J15: =IF($B15="","",COUNTIFS(資格・免許台帳!$B$7:$B$206,$B15,資格・免許台帳!$K$7:$K$206,"<0")) | K15: =IF($B15="","",COUNTIFS(資格・免許台帳!$B$7:$B$206,$B15,資格・免許台帳!$K$7:$K$206,">=0",資格・免許台帳!$K$7:$K$206,"<=90")) | L15: =IF($B15="","",IF($I15=0,"資格 未登録",IF($J15>0,"期限切れ "&TEXT($J15,"0")&"件",IF($K15>0,"90日以内 "&TEXT($K15,"0")&"件","期限内"))))
A16: =IF($B16="","",COUNTA($B$7:$B16)) | I16: =IF($B16="","",COUNTIF(資格・免許台帳!$B$7:$B$206,$B16)) | J16: =IF($B16="","",COUNTIFS(資格・免許台帳!$B$7:$B$206,$B16,資格・免許台帳!$K$7:$K$206,"<0")) | K16: =IF($B16="","",COUNTIFS(資格・免許台帳!$B$7:$B$206,$B16,資格・免許台帳!$K$7:$K$206,">=0",資格・免許台帳!$K$7:$K$206,"<=90")) | L16: =IF($B16="","",IF($I16=0,"資格 未登録",IF($J16>0,"期限切れ "&TEXT($J16,"0")&"件",IF($K16>0,"90日以内 "&TEXT($K16,"0")&"件","期限内"))))
A17: =IF($B17="","",COUNTA($B$7:$B17)) | I17: =IF($B17="","",COUNTIF(資格・免許台帳!$B$7:$B$206,$B17)) | J17: =IF($B17="","",COUNTIFS(資格・免許台帳!$B$7:$B$206,$B17,資格・免許台帳!$K$7:$K$206,"<0")) | K17: =IF($B17="","",COUNTIFS(資格・免許台帳!$B$7:$B$206,$B17,資格・免許台帳!$K$7:$K$206,">=0",資格・免許台帳!$K$7:$K$206,"<=90")) | L17: =IF($B17="","",IF($I17=0,"資格 未登録",IF($J17>0,"期限切れ "&TEXT($J17,"0")&"件",IF($K17>0,"90日以内 "&TEXT($K17,"0")&"件","期限内"))))
A18: =IF($B18="","",COUNTA($B$7:$B18)) | I18: =IF($B18="","",COUNTIF(資格・免許台帳!$B$7:$B$206,$B18)) | J18: =IF($B18="","",COUNTIFS(資格・免許台帳!$B$7:$B$206,$B18,資格・免許台帳!$K$7:$K$206,"<0")) | K18: =IF($B18="","",COUNTIFS(資格・免許台帳!$B$7:$B$206,$B18,資格・免許台帳!$K$7:$K$206,">=0",資格・免許台帳!$K$7:$K$206,"<=90")) | L18: =IF($B18="","",IF($I18=0,"資格 未登録",IF($J18>0,"期限切れ "&TEXT($J18,"0")&"件",IF($K18>0,"90日以内 "&TEXT($K18,"0")&"件","期限内"))))
... A66: =IF($B66="","",COUNTA($B$7:$B66)) | I66: =IF($B66="","",COUNTIF(資格・免許台帳!$B$7:$B$206,$B66)) | J66: =IF($B66="","",COUNTIFS(資格・免許台帳!$B$7:$B$206,$B66,資格・免許台帳!$K$7:$K$206,"<0")) | K66: =IF($B66="","",COUNTIFS(資格・免許台帳!$B$7:$B$206,$B66,資格・免許台帳!$K$7:$K$206,">=0",資格・免許台帳!$K$7:$K$206,"<=90")) | L66: =IF($B66="","",IF($I66=0,"資格 未登録",IF($J66>0,"期限切れ "&TEXT($J66,"0")&"件",IF($K66>0,"90日以内 "&TEXT($K66,"0")&"件","期限内"))))

Sheet 資格・免許台帳
A1: 資 格 ・ 免 許 台 帳
A3: 自社名 | G3: 部署 | L3: 作成日
A4: 管理責任者 | G4: 備考
A6: No | B6: 社員No | C6: 氏名 | D6: 資格・免許名 | E6: 種別 | F6: 免状・修了証番号 | G6: 交付日 | H6: 有効期限 | I6: 再教育周期(年) | J6: 次回期限 | K6: 残日数 | L6: 状態 | M6: 発行機関 | N6: 備考
A7: =IF($D7="","",COUNTA($D$7:$D7)) | C7: =IFERROR(VLOOKUP($B7,社員名簿!$B$7:$M$66,2,0),"") | J7: =IF($D7="","",IF($H7<>"",$H7,IF(OR($G7="",$I7=""),"",EDATE($G7,$I7*12)))) | K7: =IF($J7="","",$J7-TODAY()) | L7: =IF($D7="","",IF($J7="","期限なし",IF(TODAY()>$J7,"期限切れ "&TEXT(TODAY()-$J7,"0")&"日",IF($J7-TODAY()<=90,"更新まで "&TEXT($J7-TODAY(),"0")&"日","有効 あと"&TEXT($J7-TODAY(),"0")&"日"))))
A8: =IF($D8="","",COUNTA($D$7:$D8)) | C8: =IFERROR(VLOOKUP($B8,社員名簿!$B$7:$M$66,2,0),"") | J8: =IF($D8="","",IF($H8<>"",$H8,IF(OR($G8="",$I8=""),"",EDATE($G8,$I8*12)))) | K8: =IF($J8="","",$J8-TODAY()) | L8: =IF($D8="","",IF($J8="","期限なし",IF(TODAY()>$J8,"期限切れ "&TEXT(TODAY()-$J8,"0")&"日",IF($J8-TODAY()<=90,"更新まで "&TEXT($J8-TODAY(),"0")&"日","有効 あと"&TEXT($J8-TODAY(),"0")&"日"))))
A9: =IF($D9="","",COUNTA($D$7:$D9)) | C9: =IFERROR(VLOOKUP($B9,社員名簿!$B$7:$M$66,2,0),"") | J9: =IF($D9="","",IF($H9<>"",$H9,IF(OR($G9="",$I9=""),"",EDATE($G9,$I9*12)))) | K9: =IF($J9="","",$J9-TODAY()) | L9: =IF($D9="","",IF($J9="","期限なし",IF(TODAY()>$J9,"期限切れ "&TEXT(TODAY()-$J9,"0")&"日",IF($J9-TODAY()<=90,"更新まで "&TEXT($J9-TODAY(),"0")&"日","有効 あと"&TEXT($J9-TODAY(),"0")&"日"))))
A10: =IF($D10="","",COUNTA($D$7:$D10)) | C10: =IFERROR(VLOOKUP($B10,社員名簿!$B$7:$M$66,2,0),"") | J10: =IF($D10="","",IF($H10<>"",$H10,IF(OR($G10="",$I10=""),"",EDATE($G10,$I10*12)))) | K10: =IF($J10="","",$J10-TODAY()) | L10: =IF($D10="","",IF($J10="","期限なし",IF(TODAY()>$J10,"期限切れ "&TEXT(TODAY()-$J10,"0")&"日",IF($J10-TODAY()<=90,"更新まで "&TEXT($J10-TODAY(),"0")&"日","有効 あと"&TEXT($J10-TODAY(),"0")&"日"))))
A11: =IF($D11="","",COUNTA($D$7:$D11)) | C11: =IFERROR(VLOOKUP($B11,社員名簿!$B$7:$M$66,2,0),"") | J11: =IF($D11="","",IF($H11<>"",$H11,IF(OR($G11="",$I11=""),"",EDATE($G11,$I11*12)))) | K11: =IF($J11="","",$J11-TODAY()) | L11: =IF($D11="","",IF($J11="","期限なし",IF(TODAY()>$J11,"期限切れ "&TEXT(TODAY()-$J11,"0")&"日",IF($J11-TODAY()<=90,"更新まで "&TEXT($J11-TODAY(),"0")&"日","有効 あと"&TEXT($J11-TODAY(),"0")&"日"))))
A12: =IF($D12="","",COUNTA($D$7:$D12)) | C12: =IFERROR(VLOOKUP($B12,社員名簿!$B$7:$M$66,2,0),"") | J12: =IF($D12="","",IF($H12<>"",$H12,IF(OR($G12="",$I12=""),"",EDATE($G12,$I12*12)))) | K12: =IF($J12="","",$J12-TODAY()) | L12: =IF($D12="","",IF($J12="","期限なし",IF(TODAY()>$J12,"期限切れ "&TEXT(TODAY()-$J12,"0")&"日",IF($J12-TODAY()<=90,"更新まで "&TEXT($J12-TODAY(),"0")&"日","有効 あと"&TEXT($J12-TODAY(),"0")&"日"))))
A13: =IF($D13="","",COUNTA($D$7:$D13)) | C13: =IFERROR(VLOOKUP($B13,社員名簿!$B$7:$M$66,2,0),"") | J13: =IF($D13="","",IF($H13<>"",$H13,IF(OR($G13="",$I13=""),"",EDATE($G13,$I13*12)))) | K13: =IF($J13="","",$J13-TODAY()) | L13: =IF($D13="","",IF($J13="","期限なし",IF(TODAY()>$J13,"期限切れ "&TEXT(TODAY()-$J13,"0")&"日",IF($J13-TODAY()<=90,"更新まで "&TEXT($J13-TODAY(),"0")&"日","有効 あと"&TEXT($J13-TODAY(),"0")&"日"))))
A14: =IF($D14="","",COUNTA($D$7:$D14)) | C14: =IFERROR(VLOOKUP($B14,社員名簿!$B$7:$M$66,2,0),"") | J14: =IF($D14="","",IF($H14<>"",$H14,IF(OR($G14="",$I14=""),"",EDATE($G14,$I14*12)))) | K14: =IF($J14="","",$J14-TODAY()) | L14: =IF($D14="","",IF($J14="","期限なし",IF(TODAY()>$J14,"期限切れ "&TEXT(TODAY()-$J14,"0")&"日",IF($J14-TODAY()<=90,"更新まで "&TEXT($J14-TODAY(),"0")&"日","有効 あと"&TEXT($J14-TODAY(),"0")&"日"))))
A15: =IF($D15="","",COUNTA($D$7:$D15)) | C15: =IFERROR(VLOOKUP($B15,社員名簿!$B$7:$M$66,2,0),"") | J15: =IF($D15="","",IF($H15<>"",$H15,IF(OR($G15="",$I15=""),"",EDATE($G15,$I15*12)))) | K15: =IF($J15="","",$J15-TODAY()) | L15: =IF($D15="","",IF($J15="","期限なし",IF(TODAY()>$J15,"期限切れ "&TEXT(TODAY()-$J15,"0")&"日",IF($J15-TODAY()<=90,"更新まで "&TEXT($J15-TODAY(),"0")&"日","有効 あと"&TEXT($J15-TODAY(),"0")&"日"))))
A16: =IF($D16="","",COUNTA($D$7:$D16)) | C16: =IFERROR(VLOOKUP($B16,社員名簿!$B$7:$M$66,2,0),"") | J16: =IF($D16="","",IF($H16<>"",$H16,IF(OR($G16="",$I16=""),"",EDATE($G16,$I16*12)))) | K16: =IF($J16="","",$J16-TODAY()) | L16: =IF($D16="","",IF($J16="","期限なし",IF(TODAY()>$J16,"期限切れ "&TEXT(TODAY()-$J16,"0")&"日",IF($J16-TODAY()<=90,"更新まで "&TEXT($J16-TODAY(),"0")&"日","有効 あと"&TEXT($J16-TODAY(),"0")&"日"))))
A17: =IF($D17="","",COUNTA($D$7:$D17)) | C17: =IFERROR(VLOOKUP($B17,社員名簿!$B$7:$M$66,2,0),"") | J17: =IF($D17="","",IF($H17<>"",$H17,IF(OR($G17="",$I17=""),"",EDATE($G17,$I17*12)))) | K17: =IF($J17="","",$J17-TODAY()) | L17: =IF($D17="","",IF($J17="","期限なし",IF(TODAY()>$J17,"期限切れ "&TEXT(TODAY()-$J17,"0")&"日",IF($J17-TODAY()<=90,"更新まで "&TEXT($J17-TODAY(),"0")&"日","有効 あと"&TEXT($J17-TODAY(),"0")&"日"))))
A18: =IF($D18="","",COUNTA($D$7:$D18)) | C18: =IFERROR(VLOOKUP($B18,社員名簿!$B$7:$M$66,2,0),"") | J18: =IF($D18="","",IF($H18<>"",$H18,IF(OR($G18="",$I18=""),"",EDATE($G18,$I18*12)))) | K18: =IF($J18="","",$J18-TODAY()) | L18: =IF($D18="","",IF($J18="","期限なし",IF(TODAY()>$J18,"期限切れ "&TEXT(TODAY()-$J18,"0")&"日",IF($J18-TODAY()<=90,"更新まで "&TEXT($J18-TODAY(),"0")&"日","有効 あと"&TEXT($J18-TODAY(),"0")&"日"))))
... A206: =IF($D206="","",COUNTA($D$7:$D206)) | C206: =IFERROR(VLOOKUP($B206,社員名簿!$B$7:$M$66,2,0),"") | J206: =IF($D206="","",IF($H206<>"",$H206,IF(OR($G206="",$I206=""),"",EDATE($G206,$I206*12)))) | K206: =IF($J206="","",$J206-TODAY()) | L206: =IF($D206="","",IF($J206="","期限なし",IF(TODAY()>$J206,"期限切れ "&TEXT(TODAY()-$J206,"0")&"日",IF($J206-TODAY()<=90,"更新まで "&TEXT($J206-TODAY(),"0")&"日","有効 あと"&TEXT($J206-TODAY(),"0")&"日"))))

Sheet 資格別 集計
A1: 資 格 別 の 保 有 状 況
A2: 「資格・免許台帳」の入力から自動集計します。数値を直接書き換えないでください。
A4: 全体 | E4: 件数
A5: 登録している社員 | E5: =COUNTA(社員名簿!$B$7:$B$66) -> 0
A6: 在籍 | E6: =COUNTIF(社員名簿!$H$7:$H$66,"在籍") -> 0
A7: 資格・免許の登録件数 | E7: =COUNTA(資格・免許台帳!$D$7:$D$206) -> 0
A8: 期限切れ | E8: =COUNTIF(資格・免許台帳!$K$7:$K$206,"<0") -> 0
A9: 90日以内に更新 | E9: =COUNTIFS(資格・免許台帳!$K$7:$K$206,">=0",資格・免許台帳!$K$7:$K$206,"<=90") -> 0
A10: 期限切れの資格を持つ社員 | E10: =COUNTIF(社員名簿!$J$7:$J$66,">0") -> 0
A12: 資格・免許名 | B12: 種別 | C12: 保有者 | D12: 有効 | E12: 期限切れ | F12: 90日以内
A13: =マスタ!$I$5 -> 第一種電気工事士 | B13: =マスタ!$J$5 -> 免状・国家資格 | C13: =COUNTIF(資格・免許台帳!$D$7:$D$206,$A13) -> 0 | D13: =$C13-$E13 -> 0 | E13: =COUNTIFS(資格・免許台帳!$D$7:$D$206,$A13,資格・免許台帳!$K$7:$K$206,"<0") -> 0 | F13: =COUNTIFS(資格・免許台帳!$D$7:$D$206,$A13,資格・免許台帳!$K$7:$K$206,">=0",資格・免許台帳!$K$7:$K$206,"<=90") -> 0
A14: =マスタ!$I$6 -> 第二種電気工事士 | B14: =マスタ!$J$6 -> 免状・国家資格 | C14: =COUNTIF(資格・免許台帳!$D$7:$D$206,$A14) -> 0 | D14: =$C14-$E14 -> 0 | E14: =COUNTIFS(資格・免許台帳!$D$7:$D$206,$A14,資格・免許台帳!$K$7:$K$206,"<0") -> 0 | F14: =COUNTIFS(資格・免許台帳!$D$7:$D$206,$A14,資格・免許台帳!$K$7:$K$206,">=0",資格・免許台帳!$K$7:$K$206,"<=90") -> 0
A15: =マスタ!$I$7 -> 認定電気工事従事者 | B15: =マスタ!$J$7 -> 免状・国家資格 | C15: =COUNTIF(資格・免許台帳!$D$7:$D$206,$A15) -> 0 | D15: =$C15-$E15 -> 0 | E15: =COUNTIFS(資格・免許台帳!$D$7:$D$206,$A15,資格・免許台帳!$K$7:$K$206,"<0") -> 0 | F15: =COUNTIFS(資格・免許台帳!$D$7:$D$206,$A15,資格・免許台帳!$K$7:$K$206,">=0",資格・免許台帳!$K$7:$K$206,"<=90") -> 0
A16: =マスタ!$I$8 -> 特種電気工事資格者（ネオン） | B16: =マスタ!$J$8 -> 免状・国家資格 | C16: =COUNTIF(資格・免許台帳!$D$7:$D$206,$A16) -> 0 | D16: =$C16-$E16 -> 0 | E16: =COUNTIFS(資格・免許台帳!$D$7:$D$206,$A16,資格・免許台帳!$K$7:$K$206,"<0") -> 0 | F16: =COUNTIFS(資格・免許台帳!$D$7:$D$206,$A16,資格・免許台帳!$K$7:$K$206,">=0",資格・免許台帳!$K$7:$K$206,"<=90") -> 0
A17: =マスタ!$I$9 -> 特種電気工事資格者（非常用予備発電装置） | B17: =マスタ!$J$9 -> 免状・国家資格 | C17: =COUNTIF(資格・免許台帳!$D$7:$D$206,$A17) -> 0 | D17: =$C17-$E17 -> 0 | E17: =COUNTIFS(資格・免許台帳!$D$7:$D$206,$A17,資格・免許台帳!$K$7:$K$206,"<0") -> 0 | F17: =COUNTIFS(資格・免許台帳!$D$7:$D$206,$A17,資格・免許台帳!$K$7:$K$206,">=0",資格・免許台帳!$K$7:$K$206,"<=90") -> 0
A18: =マスタ!$I$10 -> 第三種電気主任技術者 | B18: =マスタ!$J$10 -> 免状・国家資格 | C18: =COUNTIF(資格・免許台帳!$D$7:$D$206,$A18) -> 0 | D18: =$C18-$E18 -> 0 | E18: =COUNTIFS(資格・免許台帳!$D$7:$D$206,$A18,資格・免許台帳!$K$7:$K$206,"<0") -> 0 | F18: =COUNTIFS(資格・免許台帳!$D$7:$D$206,$A18,資格・免許台帳!$K$7:$K$206,">=0",資格・免許台帳!$K$7:$K$206,"<=90") -> 0
A19: =マスタ!$I$11 -> 1級電気工事施工管理技士 | B19: =マスタ!$J$11 -> 免状・国家資格 | C19: =COUNTIF(資格・免許台帳!$D$7:$D$206,$A19) -> 0 | D19: =$C19-$E19 -> 0 | E19: =COUNTIFS(資格・免許台帳!$D$7:$D$206,$A19,資格・免許台帳!$K$7:$K$206,"<0") -> 0 | F19: =COUNTIFS(資格・免許台帳!$D$7:$D$206,$A19,資格・免許台帳!$K$7:$K$206,">=0",資格・免許台帳!$K$7:$K$206,"<=90") -> 0
A20: =マスタ!$I$12 -> 2級電気工事施工管理技士 | B20: =マスタ!$J$12 -> 免状・国家資格 | C20: =COUNTIF(資格・免許台帳!$D$7:$D$206,$A20) -> 0 | D20: =$C20-$E20 -> 0 | E20: =COUNTIFS(資格・免許台帳!$D$7:$D$206,$A20,資格・免許台帳!$K$7:$K$206,"<0") -> 0 | F20: =COUNTIFS(資格・免許台帳!$D$7:$D$206,$A20,資格・免許台帳!$K$7:$K$206,">=0",資格・免許台帳!$K$7:$K$206,"<=90") -> 0
A21: =マスタ!$I$13 -> 消防設備士 甲種第4類 | B21: =マスタ!$J$13 -> 免状・国家資格 | C21: =COUNTIF(資格・免許台帳!$D$7:$D$206,$A21) -> 0 | D21: =$C21-$E21 -> 0 | E21: =COUNTIFS(資格・免許台帳!$D$7:$D$206,$A21,資格・免許台帳!$K$7:$K$206,"<0") -> 0 | F21: =COUNTIFS(資格・免許台帳!$D$7:$D$206,$A21,資格・免許台帳!$K$7:$K$206,">=0",資格・免許台帳!$K$7:$K$206,"<=90") -> 0
A22: =マスタ!$I$14 -> 消防設備士 乙種第4類 | B22: =マスタ!$J$14 -> 免状・国家資格 | C22: =COUNTIF(資格・免許台帳!$D$7:$D$206,$A22) -> 0 | D22: =$C22-$E22 -> 0 | E22: =COUNTIFS(資格・免許台帳!$D$7:$D$206,$A22,資格・免許台帳!$K$7:$K$206,"<0") -> 0 | F22: =COUNTIFS(資格・免許台帳!$D$7:$D$206,$A22,資格・免許台帳!$K$7:$K$206,">=0",資格・免許台帳!$K$7:$K$206,"<=90") -> 0
A23: =マスタ!$I$15 -> 工事担任者（第一級デジタル通信） | B23: =マスタ!$J$15 -> 免状・国家資格 | C23: =COUNTIF(資格・免許台帳!$D$7:$D$206,$A23) -> 0 | D23: =$C23-$E23 -> 0 | E23: =COUNTIFS(資格・免許台帳!$D$7:$D$206,$A23,資格・免許台帳!$K$7:$K$206,"<0") -> 0 | F23: =COUNTIFS(資格・免許台帳!$D$7:$D$206,$A23,資格・免許台帳!$K$7:$K$206,">=0",資格・免許台帳!$K$7:$K$206,"<=90") -> 0
A24: =マスタ!$I$16 -> 職長・安全衛生責任者教育 | B24: =マスタ!$J$16 -> 技能講習 | C24: =COUNTIF(資格・免許台帳!$D$7:$D$206,$A24) -> 0 | D24: =$C24-$E24 -> 0 | E24: =COUNTIFS(資格・免許台帳!$D$7:$D$206,$A24,資格・免許台帳!$K$7:$K$206,"<0") -> 0 | F24: =COUNTIFS(資格・免許台帳!$D$7:$D$206,$A24,資格・免許台帳!$K$7:$K$206,">=0",資格・免許台帳!$K$7:$K$206,"<=90") -> 0
A25: =マスタ!$I$17 -> 高所作業車運転（10m以上） | B25: =マスタ!$J$17 -> 技能講習 | C25: =COUNTIF(資格・免許台帳!$D$7:$D$206,$A25) -> 0 | D25: =$C25-$E25 -> 0 | E25: =COUNTIFS(資格・免許台帳!$D$7:$D$206,$A25,資格・免許台帳!$K$7:$K$206,"<0") -> 0 | F25: =COUNTIFS(資格・免許台帳!$D$7:$D$206,$A25,資格・免許台帳!$K$7:$K$206,">=0",資格・免許台帳!$K$7:$K$206,"<=90") -> 0
A26: =マスタ!$I$18 -> フォークリフト運転（1t以上） | B26: =マスタ!$J$18 -> 技能講習 | C26: =COUNTIF(資格・免許台帳!$D$7:$D$206,$A26) -> 0 | D26: =$C26-$E26 -> 0 | E26: =COUNTIFS(資格・免許台帳!$D$7:$D$206,$A26,資格・免許台帳!$K$7:$K$206,"<0") -> 0 | F26: =COUNTIFS(資格・免許台帳!$D$7:$D$206,$A26,資格・免許台帳!$K$7:$K$206,">=0",資格・免許台帳!$K$7:$K$206,"<=90") -> 0
A27: =マスタ!$I$19 -> 玉掛け（1t以上） | B27: =マスタ!$J$19 -> 技能講習 | C27: =COUNTIF(資格・免許台帳!$D$7:$D$206,$A27) -> 0 | D27: =$C27-$E27 -> 0 | E27: =COUNTIFS(資格・免許台帳!$D$7:$D$206,$A27,資格・免許台帳!$K$7:$K$206,"<0") -> 0 | F27: =COUNTIFS(資格・免許台帳!$D$7:$D$206,$A27,資格・免許台帳!$K$7:$K$206,">=0",資格・免許台帳!$K$7:$K$206,"<=90") -> 0
A28: =マスタ!$I$20 -> 小型移動式クレーン運転 | B28: =マスタ!$J$20 -> 技能講習 | C28: =COUNTIF(資格・免許台帳!$D$7:$D$206,$A28) -> 0 | D28: =$C28-$E28 -> 0 | E28: =COUNTIFS(資格・免許台帳!$D$7:$D$206,$A28,資格・免許台帳!$K$7:$K$206,"<0") -> 0 | F28: =COUNTIFS(資格・免許台帳!$D$7:$D$206,$A28,資格・免許台帳!$K$7:$K$206,">=0",資格・免許台帳!$K$7:$K$206,"<=90") -> 0
A29: =マスタ!$I$21 -> 足場の組立て等作業主任者 | B29: =マスタ!$J$21 -> 技能講習 | C29: =COUNTIF(資格・免許台帳!$D$7:$D$206,$A29) -> 0 | D29: =$C29-$E29 -> 0 | E29: =COUNTIFS(資格・免許台帳!$D$7:$D$206,$A29,資格・免許台帳!$K$7:$K$206,"<0") -> 0 | F29: =COUNTIFS(資格・免許台帳!$D$7:$D$206,$A29,資格・免許台帳!$K$7:$K$206,">=0",資格・免許台帳!$K$7:$K$206,"<=90") -> 0
A30: =マスタ!$I$22 -> 酸素欠乏・硫化水素危険作業主任者 | B30: =マスタ!$J$22 -> 技能講習 | C30: =COUNTIF(資格・免許台帳!$D$7:$D$206,$A30) -> 0 | D30: =$C30-$E30 -> 0 | E30: =COUNTIFS(資格・免許台帳!$D$7:$D$206,$A30,資格・免許台帳!$K$7:$K$206,"<0") -> 0 | F30: =COUNTIFS(資格・免許台帳!$D$7:$D$206,$A30,資格・免許台帳!$K$7:$K$206,">=0",資格・免許台帳!$K$7:$K$206,"<=90") -> 0
A31: =マスタ!$I$23 -> 石綿作業主任者 | B31: =マスタ!$J$23 -> 技能講習 | C31: =COUNTIF(資格・免許台帳!$D$7:$D$206,$A31) -> 0 | D31: =$C31-$E31 -> 0 | E31: =COUNTIFS(資格・免許台帳!$D$7:$D$206,$A31,資格・免許台帳!$K$7:$K$206,"<0") -> 0 | F31: =COUNTIFS(資格・免許台帳!$D$7:$D$206,$A31,資格・免許台帳!$K$7:$K$206,">=0",資格・免許台帳!$K$7:$K$206,"<=90") -> 0
A32: =マスタ!$I$24 -> ガス溶接技能講習 | B32: =マスタ!$J$24 -> 技能講習 | C32: =COUNTIF(資格・免許台帳!$D$7:$D$206,$A32) -> 0 | D32: =$C32-$E32 -> 0 | E32: =COUNTIFS(資格・免許台帳!$D$7:$D$206,$A32,資格・免許台帳!$K$7:$K$206,"<0") -> 0 | F32: =COUNTIFS(資格・免許台帳!$D$7:$D$206,$A32,資格・免許台帳!$K$7:$K$206,">=0",資格・免許台帳!$K$7:$K$206,"<=90") -> 0
A33: =マスタ!$I$25 -> 低圧電気取扱業務 | B33: =マスタ!$J$25 -> 特別教育 | C33: =COUNTIF(資格・免許台帳!$D$7:$D$206,$A33) -> 0 | D33: =$C33-$E33 -> 0 | E33: =COUNTIFS(資格・免許台帳!$D$7:$D$206,$A33,資格・免許台帳!$K$7:$K$206,"<0") -> 0 | F33: =COUNTIFS(資格・免許台帳!$D$7:$D$206,$A33,資格・免許台帳!$K$7:$K$206,">=0",資格・免許台帳!$K$7:$K$206,"<=90") -> 0
A34: =マスタ!$I$26 -> 高圧・特別高圧電気取扱業務 | B34: =マスタ!$J$26 -> 特別教育 | C34: =COUNTIF(資格・免許台帳!$D$7:$D$206,$A34) -> 0 | D34: =$C34-$E34 -> 0 | E34: =COUNTIFS(資格・免許台帳!$D$7:$D$206,$A34,資格・免許台帳!$K$7:$K$206,"<0") -> 0 | F34: =COUNTIFS(資格・免許台帳!$D$7:$D$206,$A34,資格・免許台帳!$K$7:$K$206,">=0",資格・免許台帳!$K$7:$K$206,"<=90") -> 0
A35: =マスタ!$I$27 -> フルハーネス型墜落制止用器具 | B35: =マスタ!$J$27 -> 特別教育 | C35: =COUNTIF(資格・免許台帳!$D$7:$D$206,$A35) -> 0 | D35: =$C35-$E35 -> 0 | E35: =COUNTIFS(資格・免許台帳!$D$7:$D$206,$A35,資格・免許台帳!$K$7:$K$206,"<0") -> 0 | F35: =COUNTIFS(資格・免許台帳!$D$7:$D$206,$A35,資格・免許台帳!$K$7:$K$206,">=0",資格・免許台帳!$K$7:$K$206,"<=90") -> 0
A36: =マスタ!$I$28 -> 足場の組立て等の業務 | B36: =マスタ!$J$28 -> 特別教育 | C36: =COUNTIF(資格・免許台帳!$D$7:$D$206,$A36) -> 0 | D36: =$C36-$E36 -> 0 | E36: =COUNTIFS(資格・免許台帳!$D$7:$D$206,$A36,資格・免許台帳!$K$7:$K$206,"<0") -> 0 | F36: =COUNTIFS(資格・免許台帳!$D$7:$D$206,$A36,資格・免許台帳!$K$7:$K$206,">=0",資格・免許台帳!$K$7:$K$206,"<=90") -> 0
A37: =マスタ!$I$29 -> ロープ高所作業 | B37: =マスタ!$J$29 -> 特別教育 | C37: =COUNTIF(資格・免許台帳!$D$7:$D$206,$A37) -> 0 | D37: =$C37-$E37 -> 0 | E37: =COUNTIFS(資格・免許台帳!$D$7:$D$206,$A37,資格・免許台帳!$K$7:$K$206,"<0") -> 0 | F37: =COUNTIFS(資格・免許台帳!$D$7:$D$206,$A37,資格・免許台帳!$K$7:$K$206,">=0",資格・免許台帳!$K$7:$K$206,"<=90") -> 0
A38: =マスタ!$I$30 -> 高所作業車運転（10m未満） | B38: =マスタ!$J$30 -> 特別教育 | C38: =COUNTIF(資格・免許台帳!$D$7:$D$206,$A38) -> 0 | D38: =$C38-$E38 -> 0 | E38: =COUNTIFS(資格・免許台帳!$D$7:$D$206,$A38,資格・免許台帳!$K$7:$K$206,"<0") -> 0 | F38: =COUNTIFS(資格・免許台帳!$D$7:$D$206,$A38,資格・免許台帳!$K$7:$K$206,">=0",資格・免許台帳!$K$7:$K$206,"<=90") -> 0
A39: =マスタ!$I$31 -> 自由研削といしの取替え等 | B39: =マスタ!$J$31 -> 特別教育 | C39: =COUNTIF(資格・免許台帳!$D$7:$D$206,$A39) -> 0 | D39: =$C39-$E39 -> 0 | E39: =COUNTIFS(資格・免許台帳!$D$7:$D$206,$A39,資格・免許台帳!$K$7:$K$206,"<0") -> 0 | F39: =COUNTIFS(資格・免許台帳!$D$7:$D$206,$A39,資格・免許台帳!$K$7:$K$206,">=0",資格・免許台帳!$K$7:$K$206,"<=90") -> 0
A40: =マスタ!$I$32 -> アーク溶接等の業務 | B40: =マスタ!$J$32 -> 特別教育 | C40: =COUNTIF(資格・免許台帳!$D$7:$D$206,$A40) -> 0 | D40: =$C40-$E40 -> 0 | E40: =COUNTIFS(資格・免許台帳!$D$7:$D$206,$A40,資格・免許台帳!$K$7:$K$206,"<0") -> 0 | F40: =COUNTIFS(資格・免許台帳!$D$7:$D$206,$A40,資格・免許台帳!$K$7:$K$206,">=0",資格・免許台帳!$K$7:$K$206,"<=90") -> 0
A41: =マスタ!$I$33 -> 石綿使用建築物等解体等の業務 | B41: =マスタ!$J$33 -> 特別教育 | C41: =COUNTIF(資格・免許台帳!$D$7:$D$206,$A41) -> 0 | D41: =$C41-$E41 -> 0 | E41: =COUNTIFS(資格・免許台帳!$D$7:$D$206,$A41,資格・免許台帳!$K$7:$K$206,"<0") -> 0 | F41: =COUNTIFS(資格・免許台帳!$D$7:$D$206,$A41,資格・免許台帳!$K$7:$K$206,">=0",資格・免許台帳!$K$7:$K$206,"<=90") -> 0
A42: =マスタ!$I$34 -> 粉じん作業に係る特別教育 | B42: =マスタ!$J$34 -> 特別教育 | C42: =COUNTIF(資格・免許台帳!$D$7:$D$206,$A42) -> 0 | D42: =$C42-$E42 -> 0 | E42: =COUNTIFS(資格・免許台帳!$D$7:$D$206,$A42,資格・免許台帳!$K$7:$K$206,"<0") -> 0 | F42: =COUNTIFS(資格・免許台帳!$D$7:$D$206,$A42,資格・免許台帳!$K$7:$K$206,">=0",資格・免許台帳!$K$7:$K$206,"<=90") -> 0
...

Sheet 記入例
A1: 記入例（資格・免許台帳。この3行を参考に入力してください）
A3: No | B3: 社員No | C3: 氏名 | D3: 資格・免許名 | E3: 種別 | F3: 免状・修了証番号 | G3: 交付日 | H3: 有効期限 | I3: 再教育周期(年) | J3: 次回期限 | K3: 残日数 | L3: 状態 | M3: 発行機関 | N3: 備考
A4: 1 | B4: E-001 | C4: 山田 太郎 | D4: 第一種電気工事士 | E4: 免状・国家資格 | F4: 第123456号 | G4: 44520 | I4: 5 | J4: 46346 | K4: 79 | L4: 更新まで 79日 | M4: 都道府県知事 | N4: 定期講習の受講時期。受講後に交付日を更新する
A5: 2 | B5: E-001 | C5: 山田 太郎 | D5: 職長・安全衛生責任者教育 | E5: 技能講習 | F5: 第A-1001号 | G5: 43992 | I5: 5 | J5: 45818 | K5: -449 | L5: 期限切れ 449日 | M5: 登録教習機関 | N5: 能力向上教育（再教育）が未受講
A6: 3 | B6: E-002 | C6: 佐藤 健 | D6: 第二種電気工事士 | E6: 免状・国家資格 | F6: 第234567号 | G6: 45000 | L6: 期限なし | M6: 都道府県知事
A8: 「氏名」「次回期限」「残日数」「状態」は本来は自動計算です。ここでは見本として値を直接入れています。

Sheet マスタ
A1: 選択肢と設定
A3: 種別 | C3: 職位 | E3: 在籍 | G3: 再教育周期 | H3: 年数 | I3: 電気工事でよく使う資格・免許と再教育周期の目安
A4: 免状・国家資格 | C4: 現場代理人 | E4: 在籍 | G4: 期限なし | I4: 資格・免許名 | J4: 種別 | K4: 周期(年) | L4: 発行機関の例
A5: 技能講習 | C5: 主任技術者 | E5: 休職 | G5: 3年ごと | H5: 3 | I5: 第一種電気工事士 | J5: 免状・国家資格 | K5: 5 | L5: 都道府県知事
A6: 特別教育 | C6: 職長 | E6: 退職 | G6: 5年ごと | H6: 5 | I6: 第二種電気工事士 | J6: 免状・国家資格 | L6: 都道府県知事
A7: 安全衛生教育 | C7: 作業員 | G7: 10年ごと | H7: 10 | I7: 認定電気工事従事者 | J7: 免状・国家資格 | L7: 経済産業省
A8: その他 | C8: 見習い | I8: 特種電気工事資格者（ネオン） | J8: 免状・国家資格 | L8: 経済産業省
C9: 事務 | I9: 特種電気工事資格者（非常用予備発電装置） | J9: 免状・国家資格 | L9: 経済産業省
I10: 第三種電気主任技術者 | J10: 免状・国家資格 | L10: 経済産業省
I11: 1級電気工事施工管理技士 | J11: 免状・国家資格 | L11: 国土交通省
I12: 2級電気工事施工管理技士 | J12: 免状・国家資格 | L12: 国土交通省
I13: 消防設備士 甲種第4類 | J13: 免状・国家資格 | K13: 5 | L13: 都道府県知事
I14: 消防設備士 乙種第4類 | J14: 免状・国家資格 | K14: 5 | L14: 都道府県知事
I15: 工事担任者（第一級デジタル通信） | J15: 免状・国家資格 | L15: 総務省
I16: 職長・安全衛生責任者教育 | J16: 技能講習 | K16: 5 | L16: 登録教習機関
I17: 高所作業車運転（10m以上） | J17: 技能講習 | L17: 登録教習機関
I18: フォークリフト運転（1t以上） | J18: 技能講習 | L18: 登録教習機関
I19: 玉掛け（1t以上） | J19: 技能講習 | L19: 登録教習機関
I20: 小型移動式クレーン運転 | J20: 技能講習 | L20: 登録教習機関
I21: 足場の組立て等作業主任者 | J21: 技能講習 | L21: 登録教習機関
I22: 酸素欠乏・硫化水素危険作業主任者 | J22: 技能講習 | L22: 登録教習機関
I23: 石綿作業主任者 | J23: 技能講習 | L23: 登録教習機関
I24: ガス溶接技能講習 | J24: 技能講習 | L24: 登録教習機関
I25: 低圧電気取扱業務 | J25: 特別教育 | L25: 事業者・教習機関
I26: 高圧・特別高圧電気取扱業務 | J26: 特別教育 | L26: 事業者・教習機関
I27: フルハーネス型墜落制止用器具 | J27: 特別教育 | L27: 事業者・教習機関
I28: 足場の組立て等の業務 | J28: 特別教育 | L28: 事業者・教習機関
... I34: 粉じん作業に係る特別教育 | J34: 特別教育 | L34: 事業者・教習機関
I35: 職長等能力向上教育（再教育） | J35: 安全衛生教育 | K35: 5 | L35: 登録教習機関
I36: 第一種電気工事士定期講習 | J36: 安全衛生教育 | K36: 5 | L36: 指定講習機関
I37: 安全衛生推進者 | J37: 安全衛生教育 | L37: 登録教習機関
I38: 危険予知訓練（KYT）研修 | J38: 安全衛生教育 | L38: 社内
I39: 雇入れ時教育 | J39: 安全衛生教育 | L39: 社内
I40: 作業内容変更時教育 | J40: 安全衛生教育 | L40: 社内
I41: 普通自動車運転免許 | J41: その他 | L41: 公安委員会
I42: 準中型自動車運転免許 | J42: その他 | L42: 公安委員会
I43: 社内認定（高圧受電作業） | J43: その他 | K43: 3 | L43: 社内
I45: 周期の年数は運用上の目安です。第一種電気工事士の定期講習は電気工事士法により5年以内ごと、職長等能力向上教育（再教育）はおおむね5年ごとが目安とされています。実際の受講時期は、都道府県および登録教習機関の案内をご確認ください。
